BEGIN:VCALENDAR
VERSION:2.0
PRODID:-//phil.firespring.org//NONSGML kigkonsult.se iCalcreator 2.30.10//
CALSCALE:GREGORIAN
METHOD:PUBLISH
UID:f9530ed7-cf90-4784-a877-ee812df92165
X-WR-CALDESC:Please bring drinking water
X-WR-RELCALID:69801ff7578d3398d68c27f19777222f
X-WR-TIMEZONE:America/Chicago
BEGIN:VTIMEZONE
TZID:America/Chicago
BEGIN:STANDARD
TZNAME:CST
DTSTART:20291104T020000
TZOFFSETFROM:-0500
TZOFFSETTO:-0600
RDATE:20301103T020000
END:STANDARD
BEGIN:DAYLIGHT
TZNAME:CDT
DTSTART:20290311T020000
TZOFFSETFROM:-0600
TZOFFSETTO:-0500
RDATE:20300310T020000
RDATE:20310309T020000
END:DAYLIGHT
END:VTIMEZONE
BEGIN:VEVENT
UID:7112aed0-e2eb-4583-bb82-51bdf79f83c0
DTSTAMP:20260422T101654Z
DESCRIPTION:Please bring drinking water
DTSTART;TZID=America/Chicago:20291129T160000
DTEND;TZID=America/Chicago:20291129T170000
LOCATION:Firespring
SUMMARY:Walking Group
END:VEVENT
END:VCALENDAR
