BEGIN:VCALENDAR
VERSION:2.0
PRODID:-//phil.firespring.org//NONSGML kigkonsult.se iCalcreator 2.30.10//
CALSCALE:GREGORIAN
METHOD:PUBLISH
UID:a63f62e8-4205-4bf5-8748-5c087c408104
X-WR-CALDESC:Please bring drinking water
X-WR-RELCALID:f5db7660b669ee51a2cfaec2b48ef27b
X-WR-TIMEZONE:America/Chicago
BEGIN:VTIMEZONE
TZID:America/Chicago
BEGIN:STANDARD
TZNAME:CST
DTSTART:20291104T020000
TZOFFSETFROM:-0500
TZOFFSETTO:-0600
RDATE:20301103T020000
END:STANDARD
BEGIN:DAYLIGHT
TZNAME:CDT
DTSTART:20290311T020000
TZOFFSETFROM:-0600
TZOFFSETTO:-0500
RDATE:20300310T020000
RDATE:20310309T020000
END:DAYLIGHT
END:VTIMEZONE
BEGIN:VEVENT
UID:40b811f5-6977-4650-96ea-0e5f99dd6f51
DTSTAMP:20260422T113954Z
DESCRIPTION:Please bring drinking water
DTSTART;TZID=America/Chicago:20291220T160000
DTEND;TZID=America/Chicago:20291220T170000
LOCATION:Firespring
SUMMARY:Walking Group
END:VEVENT
END:VCALENDAR
