BEGIN:VCALENDAR
VERSION:2.0
PRODID:-//phil.firespring.org//NONSGML kigkonsult.se iCalcreator 2.30.10//
CALSCALE:GREGORIAN
METHOD:PUBLISH
UID:840cb828-2e9a-4394-99a1-69e5d2c39b36
X-WR-CALDESC:Please bring drinking water
X-WR-RELCALID:23264ca24d7d306785eec253c6e66771
X-WR-TIMEZONE:America/Chicago
BEGIN:VTIMEZONE
TZID:America/Chicago
BEGIN:STANDARD
TZNAME:CST
DTSTART:20291104T020000
TZOFFSETFROM:-0500
TZOFFSETTO:-0600
RDATE:20301103T020000
END:STANDARD
BEGIN:DAYLIGHT
TZNAME:CDT
DTSTART:20290311T020000
TZOFFSETFROM:-0600
TZOFFSETTO:-0500
RDATE:20300310T020000
RDATE:20310309T020000
END:DAYLIGHT
END:VTIMEZONE
BEGIN:VEVENT
UID:35acf417-99fd-437f-a742-43c98db11896
DTSTAMP:20260422T130846Z
DESCRIPTION:Please bring drinking water
DTSTART;TZID=America/Chicago:20300103T160000
DTEND;TZID=America/Chicago:20300103T170000
LOCATION:Firespring
SUMMARY:Walking Group
END:VEVENT
END:VCALENDAR
