BEGIN:VCALENDAR
VERSION:2.0
PRODID:-//phil.firespring.org//NONSGML kigkonsult.se iCalcreator 2.30.10//
CALSCALE:GREGORIAN
METHOD:PUBLISH
UID:b340ad50-813b-44b9-875a-7b887c0774b1
X-WR-CALDESC:Please bring drinking water
X-WR-RELCALID:3f35c52d92554d661e932a2e0736f74f
X-WR-TIMEZONE:America/Chicago
BEGIN:VTIMEZONE
TZID:America/Chicago
BEGIN:STANDARD
TZNAME:CST
DTSTART:20291104T020000
TZOFFSETFROM:-0500
TZOFFSETTO:-0600
RDATE:20301103T020000
END:STANDARD
BEGIN:DAYLIGHT
TZNAME:CDT
DTSTART:20290311T020000
TZOFFSETFROM:-0600
TZOFFSETTO:-0500
RDATE:20300310T020000
RDATE:20310309T020000
END:DAYLIGHT
END:VTIMEZONE
BEGIN:VEVENT
UID:6e1b4be4-9917-4c2d-8126-488c6ebd7698
DTSTAMP:20260422T130840Z
DESCRIPTION:Please bring drinking water
DTSTART;TZID=America/Chicago:20300117T160000
DTEND;TZID=America/Chicago:20300117T170000
LOCATION:Firespring
SUMMARY:Walking Group
END:VEVENT
END:VCALENDAR
