BEGIN:VCALENDAR
VERSION:2.0
PRODID:-//phil.firespring.org//NONSGML kigkonsult.se iCalcreator 2.30.10//
CALSCALE:GREGORIAN
METHOD:PUBLISH
UID:251aad40-5969-412c-b2c0-80c885e48f84
X-WR-CALDESC:Please bring drinking water
X-WR-RELCALID:033c6bb96d578985057330aa2e3aaff7
X-WR-TIMEZONE:America/Chicago
BEGIN:VTIMEZONE
TZID:America/Chicago
BEGIN:STANDARD
TZNAME:CST
DTSTART:20291104T020000
TZOFFSETFROM:-0500
TZOFFSETTO:-0600
RDATE:20301103T020000
END:STANDARD
BEGIN:DAYLIGHT
TZNAME:CDT
DTSTART:20300310T020000
TZOFFSETFROM:-0600
TZOFFSETTO:-0500
RDATE:20310309T020000
END:DAYLIGHT
END:VTIMEZONE
BEGIN:VEVENT
UID:d928bd3c-85bd-4c10-9451-62e680ef278f
DTSTAMP:20260422T162039Z
DESCRIPTION:Please bring drinking water
DTSTART;TZID=America/Chicago:20300321T160000
DTEND;TZID=America/Chicago:20300321T170000
LOCATION:Firespring
SUMMARY:Walking Group
END:VEVENT
END:VCALENDAR
