BEGIN:VCALENDAR
VERSION:2.0
PRODID:-//phil.firespring.org//NONSGML kigkonsult.se iCalcreator 2.30.10//
CALSCALE:GREGORIAN
METHOD:PUBLISH
UID:4a1eba9c-a409-4b3d-8830-ff04c9c31d3a
X-WR-CALDESC:
X-WR-RELCALID:bfee7c277df3e3cdf647accecbf106a1
X-WR-TIMEZONE:America/Chicago
BEGIN:VTIMEZONE
TZID:America/Chicago
BEGIN:STANDARD
TZNAME:CST
DTSTART:20291104T020000
TZOFFSETFROM:-0500
TZOFFSETTO:-0600
RDATE:20301103T020000
END:STANDARD
BEGIN:DAYLIGHT
TZNAME:CDT
DTSTART:20300310T020000
TZOFFSETFROM:-0600
TZOFFSETTO:-0500
RDATE:20310309T020000
END:DAYLIGHT
END:VTIMEZONE
BEGIN:VEVENT
UID:5c3febfa-5d16-4a87-ad3a-82c24ecbbf83
DTSTAMP:20260422T174433Z
DESCRIPTION:
DTSTART;TZID=America/Chicago:20300418T133000
DTEND;TZID=America/Chicago:20300418T143000
LOCATION:
SUMMARY:Monthly Lunch
END:VEVENT
END:VCALENDAR
