BEGIN:VCALENDAR
VERSION:2.0
PRODID:-//phil.firespring.org//NONSGML kigkonsult.se iCalcreator 2.30.10//
CALSCALE:GREGORIAN
METHOD:PUBLISH
UID:b3762b49-b507-453c-85e6-e709a2c0158c
X-WR-CALDESC:Please bring drinking water
X-WR-RELCALID:9b227d37d9c79117b72ff7e980ca221a
X-WR-TIMEZONE:America/Chicago
BEGIN:VTIMEZONE
TZID:America/Chicago
BEGIN:STANDARD
TZNAME:CST
DTSTART:20291104T020000
TZOFFSETFROM:-0500
TZOFFSETTO:-0600
RDATE:20301103T020000
END:STANDARD
BEGIN:DAYLIGHT
TZNAME:CDT
DTSTART:20300310T020000
TZOFFSETFROM:-0600
TZOFFSETTO:-0500
RDATE:20310309T020000
END:DAYLIGHT
END:VTIMEZONE
BEGIN:VEVENT
UID:1f62bb4d-8290-481d-b0e5-6aa3ec2d1c1f
DTSTAMP:20260422T181009Z
DESCRIPTION:Please bring drinking water
DTSTART;TZID=America/Chicago:20300418T160000
DTEND;TZID=America/Chicago:20300418T170000
LOCATION:Firespring
SUMMARY:Walking Group
END:VEVENT
END:VCALENDAR
