BEGIN:VCALENDAR
VERSION:2.0
PRODID:-//phil.firespring.org//NONSGML kigkonsult.se iCalcreator 2.30.10//
CALSCALE:GREGORIAN
METHOD:PUBLISH
UID:dc3f1cdc-794a-4711-8623-6694ae216a75
X-WR-CALDESC:Please bring drinking water
X-WR-RELCALID:a0717cec192126210f0ba7c9c57e63f3
X-WR-TIMEZONE:America/Chicago
BEGIN:VTIMEZONE
TZID:America/Chicago
BEGIN:STANDARD
TZNAME:CST
DTSTART:20291104T020000
TZOFFSETFROM:-0500
TZOFFSETTO:-0600
RDATE:20301103T020000
END:STANDARD
BEGIN:DAYLIGHT
TZNAME:CDT
DTSTART:20300310T020000
TZOFFSETFROM:-0600
TZOFFSETTO:-0500
RDATE:20310309T020000
END:DAYLIGHT
END:VTIMEZONE
BEGIN:VEVENT
UID:4471d4c9-a2d7-4555-bc41-9a7e842aef3a
DTSTAMP:20260422T191447Z
DESCRIPTION:Please bring drinking water
DTSTART;TZID=America/Chicago:20300502T160000
DTEND;TZID=America/Chicago:20300502T170000
LOCATION:Firespring
SUMMARY:Walking Group
END:VEVENT
END:VCALENDAR
