BEGIN:VCALENDAR
VERSION:2.0
PRODID:-//phil.firespring.org//NONSGML kigkonsult.se iCalcreator 2.30.10//
CALSCALE:GREGORIAN
METHOD:PUBLISH
UID:6e07476a-1aaa-4bb9-beed-7f5eee0b7078
X-WR-CALDESC:Please bring drinking water
X-WR-RELCALID:b2e89ee9f887dd20edd1313a2ad07fa5
X-WR-TIMEZONE:America/Chicago
BEGIN:VTIMEZONE
TZID:America/Chicago
BEGIN:STANDARD
TZNAME:CST
DTSTART:20291104T020000
TZOFFSETFROM:-0500
TZOFFSETTO:-0600
RDATE:20301103T020000
RDATE:20311102T020000
END:STANDARD
BEGIN:DAYLIGHT
TZNAME:CDT
DTSTART:20300310T020000
TZOFFSETFROM:-0600
TZOFFSETTO:-0500
RDATE:20310309T020000
END:DAYLIGHT
END:VTIMEZONE
BEGIN:VEVENT
UID:92b5472d-f616-4edd-9ab4-579bc7236cf6
DTSTAMP:20260422T191452Z
DESCRIPTION:Please bring drinking water
DTSTART;TZID=America/Chicago:20300523T160000
DTEND;TZID=America/Chicago:20300523T170000
LOCATION:Firespring
SUMMARY:Walking Group
END:VEVENT
END:VCALENDAR
