BEGIN:VCALENDAR
VERSION:2.0
PRODID:-//phil.firespring.org//NONSGML kigkonsult.se iCalcreator 2.30.10//
CALSCALE:GREGORIAN
METHOD:PUBLISH
UID:1c8be99b-a91d-4f57-bc96-eb371a7dc018
X-WR-CALDESC:Please bring drinking water
X-WR-RELCALID:738d21aa8e1a7f544a58e9fc39e04378
X-WR-TIMEZONE:America/Chicago
BEGIN:VTIMEZONE
TZID:America/Chicago
BEGIN:STANDARD
TZNAME:CST
DTSTART:20291104T020000
TZOFFSETFROM:-0500
TZOFFSETTO:-0600
RDATE:20301103T020000
RDATE:20311102T020000
END:STANDARD
BEGIN:DAYLIGHT
TZNAME:CDT
DTSTART:20300310T020000
TZOFFSETFROM:-0600
TZOFFSETTO:-0500
RDATE:20310309T020000
END:DAYLIGHT
END:VTIMEZONE
BEGIN:VEVENT
UID:b3b6ce76-defb-403a-95d8-27aa88fd2c81
DTSTAMP:20260422T191446Z
DESCRIPTION:Please bring drinking water
DTSTART;TZID=America/Chicago:20300530T160000
DTEND;TZID=America/Chicago:20300530T170000
LOCATION:Firespring
SUMMARY:Walking Group
END:VEVENT
END:VCALENDAR
