BEGIN:VCALENDAR
VERSION:2.0
PRODID:-//phil.firespring.org//NONSGML kigkonsult.se iCalcreator 2.30.10//
CALSCALE:GREGORIAN
METHOD:PUBLISH
UID:6d297c01-1491-4d1e-916c-33699c92b7be
X-WR-CALDESC:Please bring drinking water
X-WR-RELCALID:9f662523e1a1a8b2ff8e3d08ea6ce9d7
X-WR-TIMEZONE:America/Chicago
BEGIN:VTIMEZONE
TZID:America/Chicago
BEGIN:STANDARD
TZNAME:CST
DTSTART:20291104T020000
TZOFFSETFROM:-0500
TZOFFSETTO:-0600
RDATE:20301103T020000
RDATE:20311102T020000
END:STANDARD
BEGIN:DAYLIGHT
TZNAME:CDT
DTSTART:20300310T020000
TZOFFSETFROM:-0600
TZOFFSETTO:-0500
RDATE:20310309T020000
END:DAYLIGHT
END:VTIMEZONE
BEGIN:VEVENT
UID:08c99a1c-f677-406b-ba95-dee75b722f98
DTSTAMP:20260422T223533Z
DESCRIPTION:Please bring drinking water
DTSTART;TZID=America/Chicago:20300711T160000
DTEND;TZID=America/Chicago:20300711T170000
LOCATION:Firespring
SUMMARY:Walking Group
END:VEVENT
END:VCALENDAR
