BEGIN:VCALENDAR
VERSION:2.0
PRODID:-//phil.firespring.org//NONSGML kigkonsult.se iCalcreator 2.30.10//
CALSCALE:GREGORIAN
METHOD:PUBLISH
UID:0b8ffab4-6210-4b6a-9e47-aa38c167ce45
X-WR-CALDESC:Please bring drinking water
X-WR-RELCALID:62a3e23068d599f500d9776456f38d07
X-WR-TIMEZONE:America/Chicago
BEGIN:VTIMEZONE
TZID:America/Chicago
BEGIN:STANDARD
TZNAME:CST
DTSTART:20291104T020000
TZOFFSETFROM:-0500
TZOFFSETTO:-0600
RDATE:20301103T020000
RDATE:20311102T020000
END:STANDARD
BEGIN:DAYLIGHT
TZNAME:CDT
DTSTART:20300310T020000
TZOFFSETFROM:-0600
TZOFFSETTO:-0500
RDATE:20310309T020000
END:DAYLIGHT
END:VTIMEZONE
BEGIN:VEVENT
UID:8c58ad97-ac59-4527-8961-36ddd1e0c225
DTSTAMP:20260422T223540Z
DESCRIPTION:Please bring drinking water
DTSTART;TZID=America/Chicago:20300725T160000
DTEND;TZID=America/Chicago:20300725T170000
LOCATION:Firespring
SUMMARY:Walking Group
END:VEVENT
END:VCALENDAR
