BEGIN:VCALENDAR
VERSION:2.0
PRODID:-//phil.firespring.org//NONSGML kigkonsult.se iCalcreator 2.30.10//
CALSCALE:GREGORIAN
METHOD:PUBLISH
UID:c698a433-1d06-4a2e-9dcb-9435e27c4a94
X-WR-CALDESC:Please bring drinking water
X-WR-RELCALID:627933f6b71edda15925c79638425d5c
X-WR-TIMEZONE:America/Chicago
BEGIN:VTIMEZONE
TZID:America/Chicago
BEGIN:STANDARD
TZNAME:CST
DTSTART:20291104T020000
TZOFFSETFROM:-0500
TZOFFSETTO:-0600
RDATE:20301103T020000
RDATE:20311102T020000
END:STANDARD
BEGIN:DAYLIGHT
TZNAME:CDT
DTSTART:20300310T020000
TZOFFSETFROM:-0600
TZOFFSETTO:-0500
RDATE:20310309T020000
END:DAYLIGHT
END:VTIMEZONE
BEGIN:VEVENT
UID:4bf304af-8762-4a5c-ae5d-b699e98cdff9
DTSTAMP:20260423T004957Z
DESCRIPTION:Please bring drinking water
DTSTART;TZID=America/Chicago:20300905T160000
DTEND;TZID=America/Chicago:20300905T170000
LOCATION:Firespring
SUMMARY:Walking Group
END:VEVENT
END:VCALENDAR
