BEGIN:VCALENDAR
VERSION:2.0
PRODID:-//phil.firespring.org//NONSGML kigkonsult.se iCalcreator 2.30.10//
CALSCALE:GREGORIAN
METHOD:PUBLISH
UID:9966073e-0e7f-4f1a-9a78-3fa47594d436
X-WR-CALDESC:Please bring drinking water
X-WR-RELCALID:37caff9dc70f87cfda17b54a02fdaad8
X-WR-TIMEZONE:America/Chicago
BEGIN:VTIMEZONE
TZID:America/Chicago
BEGIN:STANDARD
TZNAME:CST
DTSTART:20291104T020000
TZOFFSETFROM:-0500
TZOFFSETTO:-0600
RDATE:20301103T020000
RDATE:20311102T020000
END:STANDARD
BEGIN:DAYLIGHT
TZNAME:CDT
DTSTART:20300310T020000
TZOFFSETFROM:-0600
TZOFFSETTO:-0500
RDATE:20310309T020000
RDATE:20320314T020000
END:DAYLIGHT
END:VTIMEZONE
BEGIN:VEVENT
UID:e9d14429-0d5b-402d-8734-0e7278aa06c6
DTSTAMP:20260423T004955Z
DESCRIPTION:Please bring drinking water
DTSTART;TZID=America/Chicago:20300919T160000
DTEND;TZID=America/Chicago:20300919T170000
LOCATION:Firespring
SUMMARY:Walking Group
END:VEVENT
END:VCALENDAR
