BEGIN:VCALENDAR
VERSION:2.0
PRODID:-//phil.firespring.org//NONSGML kigkonsult.se iCalcreator 2.30.10//
CALSCALE:GREGORIAN
METHOD:PUBLISH
UID:65e246b9-c9c6-40ff-b73e-d9dd90ee76e0
X-WR-CALDESC:Please bring drinking water
X-WR-RELCALID:4e16f93871573d1a9ea2a87f9b9d4de3
X-WR-TIMEZONE:America/Chicago
BEGIN:VTIMEZONE
TZID:America/Chicago
BEGIN:STANDARD
TZNAME:CST
DTSTART:20291104T020000
TZOFFSETFROM:-0500
TZOFFSETTO:-0600
RDATE:20301103T020000
RDATE:20311102T020000
END:STANDARD
BEGIN:DAYLIGHT
TZNAME:CDT
DTSTART:20300310T020000
TZOFFSETFROM:-0600
TZOFFSETTO:-0500
RDATE:20310309T020000
RDATE:20320314T020000
END:DAYLIGHT
END:VTIMEZONE
BEGIN:VEVENT
UID:3bfaa7b1-d8e5-4ef2-85f7-beafe13212d1
DTSTAMP:20260423T023040Z
DESCRIPTION:Please bring drinking water
DTSTART;TZID=America/Chicago:20301003T160000
DTEND;TZID=America/Chicago:20301003T170000
LOCATION:Firespring
SUMMARY:Walking Group
END:VEVENT
END:VCALENDAR
