BEGIN:VCALENDAR
VERSION:2.0
PRODID:-//phil.firespring.org//NONSGML kigkonsult.se iCalcreator 2.30.10//
CALSCALE:GREGORIAN
METHOD:PUBLISH
UID:42036b5f-0a57-416b-af80-f86dc037cbf4
X-WR-CALDESC:Please bring drinking water
X-WR-RELCALID:abde388b59d8da2fd7a82ba9685d541a
X-WR-TIMEZONE:America/Chicago
BEGIN:VTIMEZONE
TZID:America/Chicago
BEGIN:STANDARD
TZNAME:CST
DTSTART:20301103T020000
TZOFFSETFROM:-0500
TZOFFSETTO:-0600
RDATE:20311102T020000
END:STANDARD
BEGIN:DAYLIGHT
TZNAME:CDT
DTSTART:20300310T020000
TZOFFSETFROM:-0600
TZOFFSETTO:-0500
RDATE:20310309T020000
RDATE:20320314T020000
END:DAYLIGHT
END:VTIMEZONE
BEGIN:VEVENT
UID:8fb97560-84ff-4a83-a200-66febe4bc163
DTSTAMP:20260423T041925Z
DESCRIPTION:Please bring drinking water
DTSTART;TZID=America/Chicago:20301114T160000
DTEND;TZID=America/Chicago:20301114T170000
LOCATION:Firespring
SUMMARY:Walking Group
END:VEVENT
END:VCALENDAR
