BEGIN:VCALENDAR
VERSION:2.0
PRODID:-//phil.firespring.org//NONSGML kigkonsult.se iCalcreator 2.30.10//
CALSCALE:GREGORIAN
METHOD:PUBLISH
UID:4aca6204-2e8c-436d-ad17-f702ecb58093
X-WR-CALDESC:Please bring drinking water
X-WR-RELCALID:404ed7a2912eaa896f7d8ffccbd835cd
X-WR-TIMEZONE:America/Chicago
BEGIN:VTIMEZONE
TZID:America/Chicago
BEGIN:STANDARD
TZNAME:CST
DTSTART:20301103T020000
TZOFFSETFROM:-0500
TZOFFSETTO:-0600
RDATE:20311102T020000
END:STANDARD
BEGIN:DAYLIGHT
TZNAME:CDT
DTSTART:20300310T020000
TZOFFSETFROM:-0600
TZOFFSETTO:-0500
RDATE:20310309T020000
RDATE:20320314T020000
END:DAYLIGHT
END:VTIMEZONE
BEGIN:VEVENT
UID:c7be611a-e7a2-4cdb-bef2-411acd4d46a6
DTSTAMP:20260423T035125Z
DESCRIPTION:Please bring drinking water
DTSTART;TZID=America/Chicago:20301121T160000
DTEND;TZID=America/Chicago:20301121T170000
LOCATION:Firespring
SUMMARY:Walking Group
END:VEVENT
END:VCALENDAR
