BEGIN:VCALENDAR
VERSION:2.0
PRODID:-//phil.firespring.org//NONSGML kigkonsult.se iCalcreator 2.30.10//
CALSCALE:GREGORIAN
METHOD:PUBLISH
UID:fb25d139-597e-4a82-9439-f1d217fc713a
X-WR-CALDESC:Please bring drinking water
X-WR-RELCALID:790aacce6a2118cd59a7e8f0d3a05844
X-WR-TIMEZONE:America/Chicago
BEGIN:VTIMEZONE
TZID:America/Chicago
BEGIN:STANDARD
TZNAME:CST
DTSTART:20301103T020000
TZOFFSETFROM:-0500
TZOFFSETTO:-0600
RDATE:20311102T020000
END:STANDARD
BEGIN:DAYLIGHT
TZNAME:CDT
DTSTART:20300310T020000
TZOFFSETFROM:-0600
TZOFFSETTO:-0500
RDATE:20310309T020000
RDATE:20320314T020000
END:DAYLIGHT
END:VTIMEZONE
BEGIN:VEVENT
UID:eabe076f-ce2f-4bb8-b67a-1a672fa2009b
DTSTAMP:20260423T054839Z
DESCRIPTION:Please bring drinking water
DTSTART;TZID=America/Chicago:20301219T160000
DTEND;TZID=America/Chicago:20301219T170000
LOCATION:Firespring
SUMMARY:Walking Group
END:VEVENT
END:VCALENDAR
