BEGIN:VCALENDAR
VERSION:2.0
PRODID:-//phil.firespring.org//NONSGML kigkonsult.se iCalcreator 2.30.10//
CALSCALE:GREGORIAN
METHOD:PUBLISH
UID:69069aa6-bab0-42a6-bb0a-fc7afa38aab1
X-WR-CALDESC:Please bring drinking water
X-WR-RELCALID:f7ac94652494661ed1c49ddf02311e72
X-WR-TIMEZONE:America/Chicago
BEGIN:VTIMEZONE
TZID:America/Chicago
BEGIN:STANDARD
TZNAME:CST
DTSTART:20301103T020000
TZOFFSETFROM:-0500
TZOFFSETTO:-0600
RDATE:20311102T020000
END:STANDARD
BEGIN:DAYLIGHT
TZNAME:CDT
DTSTART:20300310T020000
TZOFFSETFROM:-0600
TZOFFSETTO:-0500
RDATE:20310309T020000
RDATE:20320314T020000
END:DAYLIGHT
END:VTIMEZONE
BEGIN:VEVENT
UID:dba0200d-a5b2-44a0-bba2-7dd97151ff29
DTSTAMP:20260423T072329Z
DESCRIPTION:Please bring drinking water
DTSTART;TZID=America/Chicago:20310102T160000
DTEND;TZID=America/Chicago:20310102T170000
LOCATION:Firespring
SUMMARY:Walking Group
END:VEVENT
END:VCALENDAR
