BEGIN:VCALENDAR
VERSION:2.0
PRODID:-//phil.firespring.org//NONSGML kigkonsult.se iCalcreator 2.30.10//
CALSCALE:GREGORIAN
METHOD:PUBLISH
UID:6fd49880-4722-4241-95fe-3ffd34d82f6a
X-WR-CALDESC:Please bring drinking water
X-WR-RELCALID:6dce485dfa40dd4752a00116da1d42c6
X-WR-TIMEZONE:America/Chicago
BEGIN:VTIMEZONE
TZID:America/Chicago
BEGIN:STANDARD
TZNAME:CST
DTSTART:20301103T020000
TZOFFSETFROM:-0500
TZOFFSETTO:-0600
RDATE:20311102T020000
END:STANDARD
BEGIN:DAYLIGHT
TZNAME:CDT
DTSTART:20300310T020000
TZOFFSETFROM:-0600
TZOFFSETTO:-0500
RDATE:20310309T020000
RDATE:20320314T020000
END:DAYLIGHT
END:VTIMEZONE
BEGIN:VEVENT
UID:c663ee4b-43ef-4371-adab-28bc6d0605fa
DTSTAMP:20260423T065942Z
DESCRIPTION:Please bring drinking water
DTSTART;TZID=America/Chicago:20310123T160000
DTEND;TZID=America/Chicago:20310123T170000
LOCATION:Firespring
SUMMARY:Walking Group
END:VEVENT
END:VCALENDAR
