BEGIN:VCALENDAR
VERSION:2.0
PRODID:-//phil.firespring.org//NONSGML kigkonsult.se iCalcreator 2.30.10//
CALSCALE:GREGORIAN
METHOD:PUBLISH
UID:8bf7af2f-4d31-47e8-987f-0664e33f201d
X-WR-CALDESC:Please bring drinking water
X-WR-RELCALID:f8d932ccc47ff7e6973788d6eb54a897
X-WR-TIMEZONE:America/Chicago
BEGIN:VTIMEZONE
TZID:America/Chicago
BEGIN:STANDARD
TZNAME:CST
DTSTART:20301103T020000
TZOFFSETFROM:-0500
TZOFFSETTO:-0600
RDATE:20311102T020000
END:STANDARD
BEGIN:DAYLIGHT
TZNAME:CDT
DTSTART:20300310T020000
TZOFFSETFROM:-0600
TZOFFSETTO:-0500
RDATE:20310309T020000
RDATE:20320314T020000
END:DAYLIGHT
END:VTIMEZONE
BEGIN:VEVENT
UID:a53ed2c4-4d7b-4961-bbe5-6fee00d2e5d8
DTSTAMP:20260423T065908Z
DESCRIPTION:Please bring drinking water
DTSTART;TZID=America/Chicago:20310130T160000
DTEND;TZID=America/Chicago:20310130T170000
LOCATION:Firespring
SUMMARY:Walking Group
END:VEVENT
END:VCALENDAR
