BEGIN:VCALENDAR
VERSION:2.0
PRODID:-//phil.firespring.org//NONSGML kigkonsult.se iCalcreator 2.30.10//
CALSCALE:GREGORIAN
METHOD:PUBLISH
UID:c49eb015-1bbc-478a-a8f6-193698bf709c
X-WR-CALDESC:Please bring drinking water
X-WR-RELCALID:14df78efebe06a0551161ec3e595381d
X-WR-TIMEZONE:America/Chicago
BEGIN:VTIMEZONE
TZID:America/Chicago
BEGIN:STANDARD
TZNAME:CST
DTSTART:20301103T020000
TZOFFSETFROM:-0500
TZOFFSETTO:-0600
RDATE:20311102T020000
END:STANDARD
BEGIN:DAYLIGHT
TZNAME:CDT
DTSTART:20300310T020000
TZOFFSETFROM:-0600
TZOFFSETTO:-0500
RDATE:20310309T020000
RDATE:20320314T020000
END:DAYLIGHT
END:VTIMEZONE
BEGIN:VEVENT
UID:c6404875-b848-4dd4-a6ad-9f65d0da0007
DTSTAMP:20260423T083125Z
DESCRIPTION:Please bring drinking water
DTSTART;TZID=America/Chicago:20310220T160000
DTEND;TZID=America/Chicago:20310220T170000
LOCATION:Firespring
SUMMARY:Walking Group
END:VEVENT
END:VCALENDAR
