BEGIN:VCALENDAR
VERSION:2.0
PRODID:-//phil.firespring.org//NONSGML kigkonsult.se iCalcreator 2.30.10//
CALSCALE:GREGORIAN
METHOD:PUBLISH
UID:1be8dfc4-a38d-40f9-a9b0-4f50daf792c1
X-WR-CALDESC:Please bring drinking water
X-WR-RELCALID:f590a34c8bc424fca7fc91e1f1363806
X-WR-TIMEZONE:America/Chicago
BEGIN:VTIMEZONE
TZID:America/Chicago
BEGIN:STANDARD
TZNAME:CST
DTSTART:20301103T020000
TZOFFSETFROM:-0500
TZOFFSETTO:-0600
RDATE:20311102T020000
END:STANDARD
BEGIN:DAYLIGHT
TZNAME:CDT
DTSTART:20310309T020000
TZOFFSETFROM:-0600
TZOFFSETTO:-0500
RDATE:20320314T020000
END:DAYLIGHT
END:VTIMEZONE
BEGIN:VEVENT
UID:eb7b8eb1-f6c7-4cb2-8bc4-338a6a1b530d
DTSTAMP:20260423T110036Z
DESCRIPTION:Please bring drinking water
DTSTART;TZID=America/Chicago:20310417T160000
DTEND;TZID=America/Chicago:20310417T170000
LOCATION:Firespring
SUMMARY:Walking Group
END:VEVENT
END:VCALENDAR
