BEGIN:VCALENDAR
VERSION:2.0
PRODID:-//phil.firespring.org//NONSGML kigkonsult.se iCalcreator 2.30.10//
CALSCALE:GREGORIAN
METHOD:PUBLISH
UID:d090dcad-161a-497b-b631-b9d3f33f042a
X-WR-CALDESC:Please bring drinking water
X-WR-RELCALID:25c4e4627a1913ff1a4a11b24a33c67e
X-WR-TIMEZONE:America/Chicago
BEGIN:VTIMEZONE
TZID:America/Chicago
BEGIN:STANDARD
TZNAME:CST
DTSTART:20301103T020000
TZOFFSETFROM:-0500
TZOFFSETTO:-0600
RDATE:20311102T020000
RDATE:20321107T020000
END:STANDARD
BEGIN:DAYLIGHT
TZNAME:CDT
DTSTART:20310309T020000
TZOFFSETFROM:-0600
TZOFFSETTO:-0500
RDATE:20320314T020000
END:DAYLIGHT
END:VTIMEZONE
BEGIN:VEVENT
UID:11bf042d-d8cf-4713-9f1d-abd6cf61e6d0
DTSTAMP:20260425T114513Z
DESCRIPTION:Please bring drinking water
DTSTART;TZID=America/Chicago:20310515T160000
DTEND;TZID=America/Chicago:20310515T170000
LOCATION:Firespring
SUMMARY:Walking Group
END:VEVENT
END:VCALENDAR
