BEGIN:VCALENDAR
VERSION:2.0
PRODID:-//phil.firespring.org//NONSGML kigkonsult.se iCalcreator 2.30.10//
CALSCALE:GREGORIAN
METHOD:PUBLISH
UID:8d0b2bff-727c-47cf-a212-92a2ab94d275
X-WR-CALDESC:Join us as we celebrate our community and organize one new pro
 ject each month. Sack lunches will be provided for those that are staying 
 longer than two hours.
X-WR-RELCALID:9a421e959ca40758a505dbece30ea773
X-WR-TIMEZONE:America/Chicago
BEGIN:VTIMEZONE
TZID:America/Chicago
BEGIN:STANDARD
TZNAME:CST
DTSTART:20301103T020000
TZOFFSETFROM:-0500
TZOFFSETTO:-0600
RDATE:20311102T020000
RDATE:20321107T020000
END:STANDARD
BEGIN:DAYLIGHT
TZNAME:CDT
DTSTART:20310309T020000
TZOFFSETFROM:-0600
TZOFFSETTO:-0500
RDATE:20320314T020000
END:DAYLIGHT
END:VTIMEZONE
BEGIN:VEVENT
UID:79a5f995-1c74-4681-a436-46194891ca6b
DTSTAMP:20260425T130730Z
DESCRIPTION:Join us as we celebrate our community and organize one new proj
 ect each month. Sack lunches will be provided for those that are staying l
 onger than two hours.
DTSTART;TZID=America/Chicago:20310615T090000
DTEND;TZID=America/Chicago:20310615T150000
LOCATION:City Park
SUMMARY:Community Outreach
END:VEVENT
END:VCALENDAR
