BEGIN:VCALENDAR
VERSION:2.0
PRODID:-//phil.firespring.org//NONSGML kigkonsult.se iCalcreator 2.30.10//
CALSCALE:GREGORIAN
METHOD:PUBLISH
UID:272fdbbf-baf7-4332-8d24-87f9518bc30b
X-WR-CALDESC:Please bring drinking water
X-WR-RELCALID:27b20ae39e55c3a63f0ffa95139358ed
X-WR-TIMEZONE:America/Chicago
BEGIN:VTIMEZONE
TZID:America/Chicago
BEGIN:STANDARD
TZNAME:CST
DTSTART:20301103T020000
TZOFFSETFROM:-0500
TZOFFSETTO:-0600
RDATE:20311102T020000
RDATE:20321107T020000
END:STANDARD
BEGIN:DAYLIGHT
TZNAME:CDT
DTSTART:20310309T020000
TZOFFSETFROM:-0600
TZOFFSETTO:-0500
RDATE:20320314T020000
END:DAYLIGHT
END:VTIMEZONE
BEGIN:VEVENT
UID:c1bc122f-7c21-4066-8160-7d88e7fceba8
DTSTAMP:20260425T131006Z
DESCRIPTION:Please bring drinking water
DTSTART;TZID=America/Chicago:20310626T160000
DTEND;TZID=America/Chicago:20310626T170000
LOCATION:Firespring
SUMMARY:Walking Group
END:VEVENT
END:VCALENDAR
