BEGIN:VCALENDAR
VERSION:2.0
PRODID:-//phil.firespring.org//NONSGML kigkonsult.se iCalcreator 2.30.10//
CALSCALE:GREGORIAN
METHOD:PUBLISH
UID:a837a005-6c7d-4dee-9ff5-780222fcc1ed
X-WR-CALDESC:Please bring drinking water
X-WR-RELCALID:de941ce4d52806eee7f75f8a0c35b5c1
X-WR-TIMEZONE:America/Chicago
BEGIN:VTIMEZONE
TZID:America/Chicago
BEGIN:STANDARD
TZNAME:CST
DTSTART:20301103T020000
TZOFFSETFROM:-0500
TZOFFSETTO:-0600
RDATE:20311102T020000
RDATE:20321107T020000
END:STANDARD
BEGIN:DAYLIGHT
TZNAME:CDT
DTSTART:20310309T020000
TZOFFSETFROM:-0600
TZOFFSETTO:-0500
RDATE:20320314T020000
END:DAYLIGHT
END:VTIMEZONE
BEGIN:VEVENT
UID:323f9a67-76b3-49d9-86a5-afadb851d36a
DTSTAMP:20260425T142820Z
DESCRIPTION:Please bring drinking water
DTSTART;TZID=America/Chicago:20310717T160000
DTEND;TZID=America/Chicago:20310717T170000
LOCATION:Firespring
SUMMARY:Walking Group
END:VEVENT
END:VCALENDAR
