BEGIN:VCALENDAR
VERSION:2.0
PRODID:-//phil.firespring.org//NONSGML kigkonsult.se iCalcreator 2.30.10//
CALSCALE:GREGORIAN
METHOD:PUBLISH
UID:5f423d2c-0dcc-4ade-b0d3-7ce635eec450
X-WR-CALDESC:Please bring drinking water
X-WR-RELCALID:8f9098cf2e4b90e63573596666e036c3
X-WR-TIMEZONE:America/Chicago
BEGIN:VTIMEZONE
TZID:America/Chicago
BEGIN:STANDARD
TZNAME:CST
DTSTART:20301103T020000
TZOFFSETFROM:-0500
TZOFFSETTO:-0600
RDATE:20311102T020000
RDATE:20321107T020000
END:STANDARD
BEGIN:DAYLIGHT
TZNAME:CDT
DTSTART:20310309T020000
TZOFFSETFROM:-0600
TZOFFSETTO:-0500
RDATE:20320314T020000
END:DAYLIGHT
END:VTIMEZONE
BEGIN:VEVENT
UID:b7418c9a-4e18-4258-8f0c-839e0a0f8b8f
DTSTAMP:20260425T154806Z
DESCRIPTION:Please bring drinking water
DTSTART;TZID=America/Chicago:20310807T160000
DTEND;TZID=America/Chicago:20310807T170000
LOCATION:Firespring
SUMMARY:Walking Group
END:VEVENT
END:VCALENDAR
