BEGIN:VCALENDAR
VERSION:2.0
PRODID:-//phil.firespring.org//NONSGML kigkonsult.se iCalcreator 2.30.10//
CALSCALE:GREGORIAN
METHOD:PUBLISH
UID:d2d2af4a-c027-4549-b441-66549cc3a198
X-WR-CALDESC:Please bring drinking water
X-WR-RELCALID:844c7b9ab01d932e5b42f6d4a6be89e9
X-WR-TIMEZONE:America/Chicago
BEGIN:VTIMEZONE
TZID:America/Chicago
BEGIN:STANDARD
TZNAME:CST
DTSTART:20301103T020000
TZOFFSETFROM:-0500
TZOFFSETTO:-0600
RDATE:20311102T020000
RDATE:20321107T020000
END:STANDARD
BEGIN:DAYLIGHT
TZNAME:CDT
DTSTART:20310309T020000
TZOFFSETFROM:-0600
TZOFFSETTO:-0500
RDATE:20320314T020000
END:DAYLIGHT
END:VTIMEZONE
BEGIN:VEVENT
UID:9eeb7be7-b4dd-40b2-abf7-28c409110517
DTSTAMP:20260425T154737Z
DESCRIPTION:Please bring drinking water
DTSTART;TZID=America/Chicago:20310814T160000
DTEND;TZID=America/Chicago:20310814T170000
LOCATION:Firespring
SUMMARY:Walking Group
END:VEVENT
END:VCALENDAR
