BEGIN:VCALENDAR
VERSION:2.0
PRODID:-//phil.firespring.org//NONSGML kigkonsult.se iCalcreator 2.30.10//
CALSCALE:GREGORIAN
METHOD:PUBLISH
UID:c5f423e3-42dc-444d-8ac9-bded59cdb276
X-WR-CALDESC:Please bring drinking water
X-WR-RELCALID:f7c41c167dedeb09da96af9935d3f88b
X-WR-TIMEZONE:America/Chicago
BEGIN:VTIMEZONE
TZID:America/Chicago
BEGIN:STANDARD
TZNAME:CST
DTSTART:20301103T020000
TZOFFSETFROM:-0500
TZOFFSETTO:-0600
RDATE:20311102T020000
RDATE:20321107T020000
END:STANDARD
BEGIN:DAYLIGHT
TZNAME:CDT
DTSTART:20310309T020000
TZOFFSETFROM:-0600
TZOFFSETTO:-0500
RDATE:20320314T020000
RDATE:20330313T020000
END:DAYLIGHT
END:VTIMEZONE
BEGIN:VEVENT
UID:d4034ed7-7a1f-4d34-9553-af4fb0dfc1ad
DTSTAMP:20260425T170338Z
DESCRIPTION:Please bring drinking water
DTSTART;TZID=America/Chicago:20310918T160000
DTEND;TZID=America/Chicago:20310918T170000
LOCATION:Firespring
SUMMARY:Walking Group
END:VEVENT
END:VCALENDAR
