BEGIN:VCALENDAR
VERSION:2.0
PRODID:-//phil.firespring.org//NONSGML kigkonsult.se iCalcreator 2.30.10//
CALSCALE:GREGORIAN
METHOD:PUBLISH
UID:8418d8fb-6129-42c6-b2e3-192503427a6f
X-WR-CALDESC:Please bring drinking water
X-WR-RELCALID:ee37bd16df4c2447a762b0e45cdb1ed6
X-WR-TIMEZONE:America/Chicago
BEGIN:VTIMEZONE
TZID:America/Chicago
BEGIN:STANDARD
TZNAME:CST
DTSTART:20301103T020000
TZOFFSETFROM:-0500
TZOFFSETTO:-0600
RDATE:20311102T020000
RDATE:20321107T020000
END:STANDARD
BEGIN:DAYLIGHT
TZNAME:CDT
DTSTART:20310309T020000
TZOFFSETFROM:-0600
TZOFFSETTO:-0500
RDATE:20320314T020000
RDATE:20330313T020000
END:DAYLIGHT
END:VTIMEZONE
BEGIN:VEVENT
UID:6a468ae2-9dbb-4c4b-94d0-fcbb440de94e
DTSTAMP:20260425T183344Z
DESCRIPTION:Please bring drinking water
DTSTART;TZID=America/Chicago:20311002T160000
DTEND;TZID=America/Chicago:20311002T170000
LOCATION:Firespring
SUMMARY:Walking Group
END:VEVENT
END:VCALENDAR
