BEGIN:VCALENDAR
VERSION:2.0
PRODID:-//phil.firespring.org//NONSGML kigkonsult.se iCalcreator 2.30.10//
CALSCALE:GREGORIAN
METHOD:PUBLISH
UID:8eeb8e39-45a8-47f1-ab71-aeff7f09877e
X-WR-CALDESC:Please bring drinking water
X-WR-RELCALID:eb65a774ddb8529031cb2a975f42488e
X-WR-TIMEZONE:America/Chicago
BEGIN:VTIMEZONE
TZID:America/Chicago
BEGIN:STANDARD
TZNAME:CST
DTSTART:20301103T020000
TZOFFSETFROM:-0500
TZOFFSETTO:-0600
RDATE:20311102T020000
RDATE:20321107T020000
END:STANDARD
BEGIN:DAYLIGHT
TZNAME:CDT
DTSTART:20310309T020000
TZOFFSETFROM:-0600
TZOFFSETTO:-0500
RDATE:20320314T020000
RDATE:20330313T020000
END:DAYLIGHT
END:VTIMEZONE
BEGIN:VEVENT
UID:fd089aa5-5559-4a86-8ee3-5ebe7e82d58d
DTSTAMP:20260425T183342Z
DESCRIPTION:Please bring drinking water
DTSTART;TZID=America/Chicago:20311016T160000
DTEND;TZID=America/Chicago:20311016T170000
LOCATION:Firespring
SUMMARY:Walking Group
END:VEVENT
END:VCALENDAR
