BEGIN:VCALENDAR
VERSION:2.0
PRODID:-//phil.firespring.org//NONSGML kigkonsult.se iCalcreator 2.30.10//
CALSCALE:GREGORIAN
METHOD:PUBLISH
UID:368f25e7-1c25-42a0-89e7-61f26d13150b
X-WR-CALDESC:Please bring drinking water
X-WR-RELCALID:0ec7826d75c5894be25907058acdeb2d
X-WR-TIMEZONE:America/Chicago
BEGIN:VTIMEZONE
TZID:America/Chicago
BEGIN:STANDARD
TZNAME:CST
DTSTART:20301103T020000
TZOFFSETFROM:-0500
TZOFFSETTO:-0600
RDATE:20311102T020000
RDATE:20321107T020000
END:STANDARD
BEGIN:DAYLIGHT
TZNAME:CDT
DTSTART:20310309T020000
TZOFFSETFROM:-0600
TZOFFSETTO:-0500
RDATE:20320314T020000
RDATE:20330313T020000
END:DAYLIGHT
END:VTIMEZONE
BEGIN:VEVENT
UID:e1e30a5e-a781-4167-8e56-4eb832bd8d83
DTSTAMP:20260425T183350Z
DESCRIPTION:Please bring drinking water
DTSTART;TZID=America/Chicago:20311030T160000
DTEND;TZID=America/Chicago:20311030T170000
LOCATION:Firespring
SUMMARY:Walking Group
END:VEVENT
END:VCALENDAR
