BEGIN:VCALENDAR
VERSION:2.0
PRODID:-//phil.firespring.org//NONSGML kigkonsult.se iCalcreator 2.30.10//
CALSCALE:GREGORIAN
METHOD:PUBLISH
UID:b4919283-7975-401c-82a8-38aa78487d92
X-WR-CALDESC:Please bring drinking water
X-WR-RELCALID:1afdd6aa77bb0e53a30cee0c676a4219
X-WR-TIMEZONE:America/Chicago
BEGIN:VTIMEZONE
TZID:America/Chicago
BEGIN:STANDARD
TZNAME:CST
DTSTART:20311102T020000
TZOFFSETFROM:-0500
TZOFFSETTO:-0600
RDATE:20321107T020000
END:STANDARD
BEGIN:DAYLIGHT
TZNAME:CDT
DTSTART:20310309T020000
TZOFFSETFROM:-0600
TZOFFSETTO:-0500
RDATE:20320314T020000
RDATE:20330313T020000
END:DAYLIGHT
END:VTIMEZONE
BEGIN:VEVENT
UID:521ddf49-8f77-4de8-a054-2e47af601dbc
DTSTAMP:20260425T194522Z
DESCRIPTION:Please bring drinking water
DTSTART;TZID=America/Chicago:20311106T160000
DTEND;TZID=America/Chicago:20311106T170000
LOCATION:Firespring
SUMMARY:Walking Group
END:VEVENT
END:VCALENDAR
