BEGIN:VCALENDAR
VERSION:2.0
PRODID:-//phil.firespring.org//NONSGML kigkonsult.se iCalcreator 2.30.10//
CALSCALE:GREGORIAN
METHOD:PUBLISH
UID:42b276fa-8041-4f89-8ad6-b7df22fa602b
X-WR-CALDESC:Please bring drinking water
X-WR-RELCALID:778211bef89b11ef43a4fd4bf35b22ce
X-WR-TIMEZONE:America/Chicago
BEGIN:VTIMEZONE
TZID:America/Chicago
BEGIN:STANDARD
TZNAME:CST
DTSTART:20311102T020000
TZOFFSETFROM:-0500
TZOFFSETTO:-0600
RDATE:20321107T020000
END:STANDARD
BEGIN:DAYLIGHT
TZNAME:CDT
DTSTART:20310309T020000
TZOFFSETFROM:-0600
TZOFFSETTO:-0500
RDATE:20320314T020000
RDATE:20330313T020000
END:DAYLIGHT
END:VTIMEZONE
BEGIN:VEVENT
UID:0b8a07a7-f526-4145-aa2c-14c3f8da1882
DTSTAMP:20260425T194521Z
DESCRIPTION:Please bring drinking water
DTSTART;TZID=America/Chicago:20311120T160000
DTEND;TZID=America/Chicago:20311120T170000
LOCATION:Firespring
SUMMARY:Walking Group
END:VEVENT
END:VCALENDAR
