BEGIN:VCALENDAR
VERSION:2.0
PRODID:-//phil.firespring.org//NONSGML kigkonsult.se iCalcreator 2.30.10//
CALSCALE:GREGORIAN
METHOD:PUBLISH
UID:686b26d6-403b-4d06-8986-80623397f4d0
X-WR-CALDESC:Please bring drinking water
X-WR-RELCALID:1f9a67c15d408eea77aef51f0f985800
X-WR-TIMEZONE:America/Chicago
BEGIN:VTIMEZONE
TZID:America/Chicago
BEGIN:STANDARD
TZNAME:CST
DTSTART:20311102T020000
TZOFFSETFROM:-0500
TZOFFSETTO:-0600
RDATE:20321107T020000
END:STANDARD
BEGIN:DAYLIGHT
TZNAME:CDT
DTSTART:20310309T020000
TZOFFSETFROM:-0600
TZOFFSETTO:-0500
RDATE:20320314T020000
RDATE:20330313T020000
END:DAYLIGHT
END:VTIMEZONE
BEGIN:VEVENT
UID:e186107f-2cc7-4732-94ae-e90d7badcfae
DTSTAMP:20260425T210103Z
DESCRIPTION:Please bring drinking water
DTSTART;TZID=America/Chicago:20311218T160000
DTEND;TZID=America/Chicago:20311218T170000
LOCATION:Firespring
SUMMARY:Walking Group
END:VEVENT
END:VCALENDAR
