BEGIN:VCALENDAR
VERSION:2.0
PRODID:-//phil.firespring.org//NONSGML kigkonsult.se iCalcreator 2.30.10//
CALSCALE:GREGORIAN
METHOD:PUBLISH
UID:c065545e-3440-417d-8067-27bba47f8ecc
X-WR-CALDESC:Please bring drinking water
X-WR-RELCALID:63af07b94b39c05ac58904d535a11184
X-WR-TIMEZONE:America/Chicago
BEGIN:VTIMEZONE
TZID:America/Chicago
BEGIN:STANDARD
TZNAME:CST
DTSTART:20311102T020000
TZOFFSETFROM:-0500
TZOFFSETTO:-0600
RDATE:20321107T020000
END:STANDARD
BEGIN:DAYLIGHT
TZNAME:CDT
DTSTART:20310309T020000
TZOFFSETFROM:-0600
TZOFFSETTO:-0500
RDATE:20320314T020000
RDATE:20330313T020000
END:DAYLIGHT
END:VTIMEZONE
BEGIN:VEVENT
UID:c367ba69-a756-4530-977e-4e62df346ccb
DTSTAMP:20260425T210133Z
DESCRIPTION:Please bring drinking water
DTSTART;TZID=America/Chicago:20311225T160000
DTEND;TZID=America/Chicago:20311225T170000
LOCATION:Firespring
SUMMARY:Walking Group
END:VEVENT
END:VCALENDAR
